Workbook

Sheet Jan
B2: =UPPER(TEXT(DATE($J$3,$K$3,1),"mmmm yyyy")) | J2: YEAR
J3: 2027 | K3: 1
B4: Sunday | C4: Monday | D4: Tuesday | E4: Wednesday | F4: Thursday | G4: Friday | H4: Saturday | J4: Change the year here; all 12 month tabs update.
B5: =(DATE($J$3,$K$3,1)-WEEKDAY(DATE($J$3,$K$3,1))+1)+0 | C5: =(DATE($J$3,$K$3,1)-WEEKDAY(DATE($J$3,$K$3,1))+1)+1 | D5: =(DATE($J$3,$K$3,1)-WEEKDAY(DATE($J$3,$K$3,1))+1)+2 | E5: =(DATE($J$3,$K$3,1)-WEEKDAY(DATE($J$3,$K$3,1))+1)+3 | F5: =(DATE($J$3,$K$3,1)-WEEKDAY(DATE($J$3,$K$3,1))+1)+4 | G5: =(DATE($J$3,$K$3,1)-WEEKDAY(DATE($J$3,$K$3,1))+1)+5 | H5: =(DATE($J$3,$K$3,1)-WEEKDAY(DATE($J$3,$K$3,1))+1)+6
B9: =(DATE($J$3,$K$3,1)-WEEKDAY(DATE($J$3,$K$3,1))+1)+7 | C9: =(DATE($J$3,$K$3,1)-WEEKDAY(DATE($J$3,$K$3,1))+1)+8 | D9: =(DATE($J$3,$K$3,1)-WEEKDAY(DATE($J$3,$K$3,1))+1)+9 | E9: =(DATE($J$3,$K$3,1)-WEEKDAY(DATE($J$3,$K$3,1))+1)+10 | F9: =(DATE($J$3,$K$3,1)-WEEKDAY(DATE($J$3,$K$3,1))+1)+11 | G9: =(DATE($J$3,$K$3,1)-WEEKDAY(DATE($J$3,$K$3,1))+1)+12 | H9: =(DATE($J$3,$K$3,1)-WEEKDAY(DATE($J$3,$K$3,1))+1)+13
B13: =(DATE($J$3,$K$3,1)-WEEKDAY(DATE($J$3,$K$3,1))+1)+14 | C13: =(DATE($J$3,$K$3,1)-WEEKDAY(DATE($J$3,$K$3,1))+1)+15 | D13: =(DATE($J$3,$K$3,1)-WEEKDAY(DATE($J$3,$K$3,1))+1)+16 | E13: =(DATE($J$3,$K$3,1)-WEEKDAY(DATE($J$3,$K$3,1))+1)+17 | F13: =(DATE($J$3,$K$3,1)-WEEKDAY(DATE($J$3,$K$3,1))+1)+18 | G13: =(DATE($J$3,$K$3,1)-WEEKDAY(DATE($J$3,$K$3,1))+1)+19 | H13: =(DATE($J$3,$K$3,1)-WEEKDAY(DATE($J$3,$K$3,1))+1)+20
B17: =(DATE($J$3,$K$3,1)-WEEKDAY(DATE($J$3,$K$3,1))+1)+21 | C17: =(DATE($J$3,$K$3,1)-WEEKDAY(DATE($J$3,$K$3,1))+1)+22 | D17: =(DATE($J$3,$K$3,1)-WEEKDAY(DATE($J$3,$K$3,1))+1)+23 | E17: =(DATE($J$3,$K$3,1)-WEEKDAY(DATE($J$3,$K$3,1))+1)+24 | F17: =(DATE($J$3,$K$3,1)-WEEKDAY(DATE($J$3,$K$3,1))+1)+25 | G17: =(DATE($J$3,$K$3,1)-WEEKDAY(DATE($J$3,$K$3,1))+1)+26 | H17: =(DATE($J$3,$K$3,1)-WEEKDAY(DATE($J$3,$K$3,1))+1)+27
B21: =(DATE($J$3,$K$3,1)-WEEKDAY(DATE($J$3,$K$3,1))+1)+28 | C21: =(DATE($J$3,$K$3,1)-WEEKDAY(DATE($J$3,$K$3,1))+1)+29 | D21: =(DATE($J$3,$K$3,1)-WEEKDAY(DATE($J$3,$K$3,1))+1)+30 | E21: =(DATE($J$3,$K$3,1)-WEEKDAY(DATE($J$3,$K$3,1))+1)+31 | F21: =(DATE($J$3,$K$3,1)-WEEKDAY(DATE($J$3,$K$3,1))+1)+32 | G21: =(DATE($J$3,$K$3,1)-WEEKDAY(DATE($J$3,$K$3,1))+1)+33 | H21: =(DATE($J$3,$K$3,1)-WEEKDAY(DATE($J$3,$K$3,1))+1)+34
B25: =(DATE($J$3,$K$3,1)-WEEKDAY(DATE($J$3,$K$3,1))+1)+35 | C25: =(DATE($J$3,$K$3,1)-WEEKDAY(DATE($J$3,$K$3,1))+1)+36 | D25: =(DATE($J$3,$K$3,1)-WEEKDAY(DATE($J$3,$K$3,1))+1)+37 | E25: =(DATE($J$3,$K$3,1)-WEEKDAY(DATE($J$3,$K$3,1))+1)+38 | F25: =(DATE($J$3,$K$3,1)-WEEKDAY(DATE($J$3,$K$3,1))+1)+39 | G25: =(DATE($J$3,$K$3,1)-WEEKDAY(DATE($J$3,$K$3,1))+1)+40 | H25: =(DATE($J$3,$K$3,1)-WEEKDAY(DATE($J$3,$K$3,1))+1)+41

Sheet Feb
B2: =UPPER(TEXT(DATE(Jan!$J$3,$K$3,1),"mmmm yyyy"))
K3: 2
B4: Sunday | C4: Monday | D4: Tuesday | E4: Wednesday | F4: Thursday | G4: Friday | H4: Saturday
B5: =(DATE(Jan!$J$3,$K$3,1)-WEEKDAY(DATE(Jan!$J$3,$K$3,1))+1)+0 | C5: =(DATE(Jan!$J$3,$K$3,1)-WEEKDAY(DATE(Jan!$J$3,$K$3,1))+1)+1 | D5: =(DATE(Jan!$J$3,$K$3,1)-WEEKDAY(DATE(Jan!$J$3,$K$3,1))+1)+2 | E5: =(DATE(Jan!$J$3,$K$3,1)-WEEKDAY(DATE(Jan!$J$3,$K$3,1))+1)+3 | F5: =(DATE(Jan!$J$3,$K$3,1)-WEEKDAY(DATE(Jan!$J$3,$K$3,1))+1)+4 | G5: =(DATE(Jan!$J$3,$K$3,1)-WEEKDAY(DATE(Jan!$J$3,$K$3,1))+1)+5 | H5: =(DATE(Jan!$J$3,$K$3,1)-WEEKDAY(DATE(Jan!$J$3,$K$3,1))+1)+6
B9: =(DATE(Jan!$J$3,$K$3,1)-WEEKDAY(DATE(Jan!$J$3,$K$3,1))+1)+7 | C9: =(DATE(Jan!$J$3,$K$3,1)-WEEKDAY(DATE(Jan!$J$3,$K$3,1))+1)+8 | D9: =(DATE(Jan!$J$3,$K$3,1)-WEEKDAY(DATE(Jan!$J$3,$K$3,1))+1)+9 | E9: =(DATE(Jan!$J$3,$K$3,1)-WEEKDAY(DATE(Jan!$J$3,$K$3,1))+1)+10 | F9: =(DATE(Jan!$J$3,$K$3,1)-WEEKDAY(DATE(Jan!$J$3,$K$3,1))+1)+11 | G9: =(DATE(Jan!$J$3,$K$3,1)-WEEKDAY(DATE(Jan!$J$3,$K$3,1))+1)+12 | H9: =(DATE(Jan!$J$3,$K$3,1)-WEEKDAY(DATE(Jan!$J$3,$K$3,1))+1)+13
B13: =(DATE(Jan!$J$3,$K$3,1)-WEEKDAY(DATE(Jan!$J$3,$K$3,1))+1)+14 | C13: =(DATE(Jan!$J$3,$K$3,1)-WEEKDAY(DATE(Jan!$J$3,$K$3,1))+1)+15 | D13: =(DATE(Jan!$J$3,$K$3,1)-WEEKDAY(DATE(Jan!$J$3,$K$3,1))+1)+16 | E13: =(DATE(Jan!$J$3,$K$3,1)-WEEKDAY(DATE(Jan!$J$3,$K$3,1))+1)+17 | F13: =(DATE(Jan!$J$3,$K$3,1)-WEEKDAY(DATE(Jan!$J$3,$K$3,1))+1)+18 | G13: =(DATE(Jan!$J$3,$K$3,1)-WEEKDAY(DATE(Jan!$J$3,$K$3,1))+1)+19 | H13: =(DATE(Jan!$J$3,$K$3,1)-WEEKDAY(DATE(Jan!$J$3,$K$3,1))+1)+20
B17: =(DATE(Jan!$J$3,$K$3,1)-WEEKDAY(DATE(Jan!$J$3,$K$3,1))+1)+21 | C17: =(DATE(Jan!$J$3,$K$3,1)-WEEKDAY(DATE(Jan!$J$3,$K$3,1))+1)+22 | D17: =(DATE(Jan!$J$3,$K$3,1)-WEEKDAY(DATE(Jan!$J$3,$K$3,1))+1)+23 | E17: =(DATE(Jan!$J$3,$K$3,1)-WEEKDAY(DATE(Jan!$J$3,$K$3,1))+1)+24 | F17: =(DATE(Jan!$J$3,$K$3,1)-WEEKDAY(DATE(Jan!$J$3,$K$3,1))+1)+25 | G17: =(DATE(Jan!$J$3,$K$3,1)-WEEKDAY(DATE(Jan!$J$3,$K$3,1))+1)+26 | H17: =(DATE(Jan!$J$3,$K$3,1)-WEEKDAY(DATE(Jan!$J$3,$K$3,1))+1)+27
B21: =(DATE(Jan!$J$3,$K$3,1)-WEEKDAY(DATE(Jan!$J$3,$K$3,1))+1)+28 | C21: =(DATE(Jan!$J$3,$K$3,1)-WEEKDAY(DATE(Jan!$J$3,$K$3,1))+1)+29 | D21: =(DATE(Jan!$J$3,$K$3,1)-WEEKDAY(DATE(Jan!$J$3,$K$3,1))+1)+30 | E21: =(DATE(Jan!$J$3,$K$3,1)-WEEKDAY(DATE(Jan!$J$3,$K$3,1))+1)+31 | F21: =(DATE(Jan!$J$3,$K$3,1)-WEEKDAY(DATE(Jan!$J$3,$K$3,1))+1)+32 | G21: =(DATE(Jan!$J$3,$K$3,1)-WEEKDAY(DATE(Jan!$J$3,$K$3,1))+1)+33 | H21: =(DATE(Jan!$J$3,$K$3,1)-WEEKDAY(DATE(Jan!$J$3,$K$3,1))+1)+34
B25: =(DATE(Jan!$J$3,$K$3,1)-WEEKDAY(DATE(Jan!$J$3,$K$3,1))+1)+35 | C25: =(DATE(Jan!$J$3,$K$3,1)-WEEKDAY(DATE(Jan!$J$3,$K$3,1))+1)+36 | D25: =(DATE(Jan!$J$3,$K$3,1)-WEEKDAY(DATE(Jan!$J$3,$K$3,1))+1)+37 | E25: =(DATE(Jan!$J$3,$K$3,1)-WEEKDAY(DATE(Jan!$J$3,$K$3,1))+1)+38 | F25: =(DATE(Jan!$J$3,$K$3,1)-WEEKDAY(DATE(Jan!$J$3,$K$3,1))+1)+39 | G25: =(DATE(Jan!$J$3,$K$3,1)-WEEKDAY(DATE(Jan!$J$3,$K$3,1))+1)+40 | H25: =(DATE(Jan!$J$3,$K$3,1)-WEEKDAY(DATE(Jan!$J$3,$K$3,1))+1)+41

Sheet Mar
B2: =UPPER(TEXT(DATE(Jan!$J$3,$K$3,1),"mmmm yyyy"))
K3: 3
B4: Sunday | C4: Monday | D4: Tuesday | E4: Wednesday | F4: Thursday | G4: Friday | H4: Saturday
B5: =(DATE(Jan!$J$3,$K$3,1)-WEEKDAY(DATE(Jan!$J$3,$K$3,1))+1)+0 | C5: =(DATE(Jan!$J$3,$K$3,1)-WEEKDAY(DATE(Jan!$J$3,$K$3,1))+1)+1 | D5: =(DATE(Jan!$J$3,$K$3,1)-WEEKDAY(DATE(Jan!$J$3,$K$3,1))+1)+2 | E5: =(DATE(Jan!$J$3,$K$3,1)-WEEKDAY(DATE(Jan!$J$3,$K$3,1))+1)+3 | F5: =(DATE(Jan!$J$3,$K$3,1)-WEEKDAY(DATE(Jan!$J$3,$K$3,1))+1)+4 | G5: =(DATE(Jan!$J$3,$K$3,1)-WEEKDAY(DATE(Jan!$J$3,$K$3,1))+1)+5 | H5: =(DATE(Jan!$J$3,$K$3,1)-WEEKDAY(DATE(Jan!$J$3,$K$3,1))+1)+6
B9: =(DATE(Jan!$J$3,$K$3,1)-WEEKDAY(DATE(Jan!$J$3,$K$3,1))+1)+7 | C9: =(DATE(Jan!$J$3,$K$3,1)-WEEKDAY(DATE(Jan!$J$3,$K$3,1))+1)+8 | D9: =(DATE(Jan!$J$3,$K$3,1)-WEEKDAY(DATE(Jan!$J$3,$K$3,1))+1)+9 | E9: =(DATE(Jan!$J$3,$K$3,1)-WEEKDAY(DATE(Jan!$J$3,$K$3,1))+1)+10 | F9: =(DATE(Jan!$J$3,$K$3,1)-WEEKDAY(DATE(Jan!$J$3,$K$3,1))+1)+11 | G9: =(DATE(Jan!$J$3,$K$3,1)-WEEKDAY(DATE(Jan!$J$3,$K$3,1))+1)+12 | H9: =(DATE(Jan!$J$3,$K$3,1)-WEEKDAY(DATE(Jan!$J$3,$K$3,1))+1)+13
B13: =(DATE(Jan!$J$3,$K$3,1)-WEEKDAY(DATE(Jan!$J$3,$K$3,1))+1)+14 | C13: =(DATE(Jan!$J$3,$K$3,1)-WEEKDAY(DATE(Jan!$J$3,$K$3,1))+1)+15 | D13: =(DATE(Jan!$J$3,$K$3,1)-WEEKDAY(DATE(Jan!$J$3,$K$3,1))+1)+16 | E13: =(DATE(Jan!$J$3,$K$3,1)-WEEKDAY(DATE(Jan!$J$3,$K$3,1))+1)+17 | F13: =(DATE(Jan!$J$3,$K$3,1)-WEEKDAY(DATE(Jan!$J$3,$K$3,1))+1)+18 | G13: =(DATE(Jan!$J$3,$K$3,1)-WEEKDAY(DATE(Jan!$J$3,$K$3,1))+1)+19 | H13: =(DATE(Jan!$J$3,$K$3,1)-WEEKDAY(DATE(Jan!$J$3,$K$3,1))+1)+20
B17: =(DATE(Jan!$J$3,$K$3,1)-WEEKDAY(DATE(Jan!$J$3,$K$3,1))+1)+21 | C17: =(DATE(Jan!$J$3,$K$3,1)-WEEKDAY(DATE(Jan!$J$3,$K$3,1))+1)+22 | D17: =(DATE(Jan!$J$3,$K$3,1)-WEEKDAY(DATE(Jan!$J$3,$K$3,1))+1)+23 | E17: =(DATE(Jan!$J$3,$K$3,1)-WEEKDAY(DATE(Jan!$J$3,$K$3,1))+1)+24 | F17: =(DATE(Jan!$J$3,$K$3,1)-WEEKDAY(DATE(Jan!$J$3,$K$3,1))+1)+25 | G17: =(DATE(Jan!$J$3,$K$3,1)-WEEKDAY(DATE(Jan!$J$3,$K$3,1))+1)+26 | H17: =(DATE(Jan!$J$3,$K$3,1)-WEEKDAY(DATE(Jan!$J$3,$K$3,1))+1)+27
B21: =(DATE(Jan!$J$3,$K$3,1)-WEEKDAY(DATE(Jan!$J$3,$K$3,1))+1)+28 | C21: =(DATE(Jan!$J$3,$K$3,1)-WEEKDAY(DATE(Jan!$J$3,$K$3,1))+1)+29 | D21: =(DATE(Jan!$J$3,$K$3,1)-WEEKDAY(DATE(Jan!$J$3,$K$3,1))+1)+30 | E21: =(DATE(Jan!$J$3,$K$3,1)-WEEKDAY(DATE(Jan!$J$3,$K$3,1))+1)+31 | F21: =(DATE(Jan!$J$3,$K$3,1)-WEEKDAY(DATE(Jan!$J$3,$K$3,1))+1)+32 | G21: =(DATE(Jan!$J$3,$K$3,1)-WEEKDAY(DATE(Jan!$J$3,$K$3,1))+1)+33 | H21: =(DATE(Jan!$J$3,$K$3,1)-WEEKDAY(DATE(Jan!$J$3,$K$3,1))+1)+34
B25: =(DATE(Jan!$J$3,$K$3,1)-WEEKDAY(DATE(Jan!$J$3,$K$3,1))+1)+35 | C25: =(DATE(Jan!$J$3,$K$3,1)-WEEKDAY(DATE(Jan!$J$3,$K$3,1))+1)+36 | D25: =(DATE(Jan!$J$3,$K$3,1)-WEEKDAY(DATE(Jan!$J$3,$K$3,1))+1)+37 | E25: =(DATE(Jan!$J$3,$K$3,1)-WEEKDAY(DATE(Jan!$J$3,$K$3,1))+1)+38 | F25: =(DATE(Jan!$J$3,$K$3,1)-WEEKDAY(DATE(Jan!$J$3,$K$3,1))+1)+39 | G25: =(DATE(Jan!$J$3,$K$3,1)-WEEKDAY(DATE(Jan!$J$3,$K$3,1))+1)+40 | H25: =(DATE(Jan!$J$3,$K$3,1)-WEEKDAY(DATE(Jan!$J$3,$K$3,1))+1)+41

Sheet Apr
B2: =UPPER(TEXT(DATE(Jan!$J$3,$K$3,1),"mmmm yyyy"))
K3: 4
B4: Sunday | C4: Monday | D4: Tuesday | E4: Wednesday | F4: Thursday | G4: Friday | H4: Saturday
B5: =(DATE(Jan!$J$3,$K$3,1)-WEEKDAY(DATE(Jan!$J$3,$K$3,1))+1)+0 | C5: =(DATE(Jan!$J$3,$K$3,1)-WEEKDAY(DATE(Jan!$J$3,$K$3,1))+1)+1 | D5: =(DATE(Jan!$J$3,$K$3,1)-WEEKDAY(DATE(Jan!$J$3,$K$3,1))+1)+2 | E5: =(DATE(Jan!$J$3,$K$3,1)-WEEKDAY(DATE(Jan!$J$3,$K$3,1))+1)+3 | F5: =(DATE(Jan!$J$3,$K$3,1)-WEEKDAY(DATE(Jan!$J$3,$K$3,1))+1)+4 | G5: =(DATE(Jan!$J$3,$K$3,1)-WEEKDAY(DATE(Jan!$J$3,$K$3,1))+1)+5 | H5: =(DATE(Jan!$J$3,$K$3,1)-WEEKDAY(DATE(Jan!$J$3,$K$3,1))+1)+6
B9: =(DATE(Jan!$J$3,$K$3,1)-WEEKDAY(DATE(Jan!$J$3,$K$3,1))+1)+7 | C9: =(DATE(Jan!$J$3,$K$3,1)-WEEKDAY(DATE(Jan!$J$3,$K$3,1))+1)+8 | D9: =(DATE(Jan!$J$3,$K$3,1)-WEEKDAY(DATE(Jan!$J$3,$K$3,1))+1)+9 | E9: =(DATE(Jan!$J$3,$K$3,1)-WEEKDAY(DATE(Jan!$J$3,$K$3,1))+1)+10 | F9: =(DATE(Jan!$J$3,$K$3,1)-WEEKDAY(DATE(Jan!$J$3,$K$3,1))+1)+11 | G9: =(DATE(Jan!$J$3,$K$3,1)-WEEKDAY(DATE(Jan!$J$3,$K$3,1))+1)+12 | H9: =(DATE(Jan!$J$3,$K$3,1)-WEEKDAY(DATE(Jan!$J$3,$K$3,1))+1)+13
B13: =(DATE(Jan!$J$3,$K$3,1)-WEEKDAY(DATE(Jan!$J$3,$K$3,1))+1)+14 | C13: =(DATE(Jan!$J$3,$K$3,1)-WEEKDAY(DATE(Jan!$J$3,$K$3,1))+1)+15 | D13: =(DATE(Jan!$J$3,$K$3,1)-WEEKDAY(DATE(Jan!$J$3,$K$3,1))+1)+16 | E13: =(DATE(Jan!$J$3,$K$3,1)-WEEKDAY(DATE(Jan!$J$3,$K$3,1))+1)+17 | F13: =(DATE(Jan!$J$3,$K$3,1)-WEEKDAY(DATE(Jan!$J$3,$K$3,1))+1)+18 | G13: =(DATE(Jan!$J$3,$K$3,1)-WEEKDAY(DATE(Jan!$J$3,$K$3,1))+1)+19 | H13: =(DATE(Jan!$J$3,$K$3,1)-WEEKDAY(DATE(Jan!$J$3,$K$3,1))+1)+20
B17: =(DATE(Jan!$J$3,$K$3,1)-WEEKDAY(DATE(Jan!$J$3,$K$3,1))+1)+21 | C17: =(DATE(Jan!$J$3,$K$3,1)-WEEKDAY(DATE(Jan!$J$3,$K$3,1))+1)+22 | D17: =(DATE(Jan!$J$3,$K$3,1)-WEEKDAY(DATE(Jan!$J$3,$K$3,1))+1)+23 | E17: =(DATE(Jan!$J$3,$K$3,1)-WEEKDAY(DATE(Jan!$J$3,$K$3,1))+1)+24 | F17: =(DATE(Jan!$J$3,$K$3,1)-WEEKDAY(DATE(Jan!$J$3,$K$3,1))+1)+25 | G17: =(DATE(Jan!$J$3,$K$3,1)-WEEKDAY(DATE(Jan!$J$3,$K$3,1))+1)+26 | H17: =(DATE(Jan!$J$3,$K$3,1)-WEEKDAY(DATE(Jan!$J$3,$K$3,1))+1)+27
B21: =(DATE(Jan!$J$3,$K$3,1)-WEEKDAY(DATE(Jan!$J$3,$K$3,1))+1)+28 | C21: =(DATE(Jan!$J$3,$K$3,1)-WEEKDAY(DATE(Jan!$J$3,$K$3,1))+1)+29 | D21: =(DATE(Jan!$J$3,$K$3,1)-WEEKDAY(DATE(Jan!$J$3,$K$3,1))+1)+30 | E21: =(DATE(Jan!$J$3,$K$3,1)-WEEKDAY(DATE(Jan!$J$3,$K$3,1))+1)+31 | F21: =(DATE(Jan!$J$3,$K$3,1)-WEEKDAY(DATE(Jan!$J$3,$K$3,1))+1)+32 | G21: =(DATE(Jan!$J$3,$K$3,1)-WEEKDAY(DATE(Jan!$J$3,$K$3,1))+1)+33 | H21: =(DATE(Jan!$J$3,$K$3,1)-WEEKDAY(DATE(Jan!$J$3,$K$3,1))+1)+34
B25: =(DATE(Jan!$J$3,$K$3,1)-WEEKDAY(DATE(Jan!$J$3,$K$3,1))+1)+35 | C25: =(DATE(Jan!$J$3,$K$3,1)-WEEKDAY(DATE(Jan!$J$3,$K$3,1))+1)+36 | D25: =(DATE(Jan!$J$3,$K$3,1)-WEEKDAY(DATE(Jan!$J$3,$K$3,1))+1)+37 | E25: =(DATE(Jan!$J$3,$K$3,1)-WEEKDAY(DATE(Jan!$J$3,$K$3,1))+1)+38 | F25: =(DATE(Jan!$J$3,$K$3,1)-WEEKDAY(DATE(Jan!$J$3,$K$3,1))+1)+39 | G25: =(DATE(Jan!$J$3,$K$3,1)-WEEKDAY(DATE(Jan!$J$3,$K$3,1))+1)+40 | H25: =(DATE(Jan!$J$3,$K$3,1)-WEEKDAY(DATE(Jan!$J$3,$K$3,1))+1)+41

Sheet May
B2: =UPPER(TEXT(DATE(Jan!$J$3,$K$3,1),"mmmm yyyy"))
K3: 5
B4: Sunday | C4: Monday | D4: Tuesday | E4: Wednesday | F4: Thursday | G4: Friday | H4: Saturday
B5: =(DATE(Jan!$J$3,$K$3,1)-WEEKDAY(DATE(Jan!$J$3,$K$3,1))+1)+0 | C5: =(DATE(Jan!$J$3,$K$3,1)-WEEKDAY(DATE(Jan!$J$3,$K$3,1))+1)+1 | D5: =(DATE(Jan!$J$3,$K$3,1)-WEEKDAY(DATE(Jan!$J$3,$K$3,1))+1)+2 | E5: =(DATE(Jan!$J$3,$K$3,1)-WEEKDAY(DATE(Jan!$J$3,$K$3,1))+1)+3 | F5: =(DATE(Jan!$J$3,$K$3,1)-WEEKDAY(DATE(Jan!$J$3,$K$3,1))+1)+4 | G5: =(DATE(Jan!$J$3,$K$3,1)-WEEKDAY(DATE(Jan!$J$3,$K$3,1))+1)+5 | H5: =(DATE(Jan!$J$3,$K$3,1)-WEEKDAY(DATE(Jan!$J$3,$K$3,1))+1)+6
B9: =(DATE(Jan!$J$3,$K$3,1)-WEEKDAY(DATE(Jan!$J$3,$K$3,1))+1)+7 | C9: =(DATE(Jan!$J$3,$K$3,1)-WEEKDAY(DATE(Jan!$J$3,$K$3,1))+1)+8 | D9: =(DATE(Jan!$J$3,$K$3,1)-WEEKDAY(DATE(Jan!$J$3,$K$3,1))+1)+9 | E9: =(DATE(Jan!$J$3,$K$3,1)-WEEKDAY(DATE(Jan!$J$3,$K$3,1))+1)+10 | F9: =(DATE(Jan!$J$3,$K$3,1)-WEEKDAY(DATE(Jan!$J$3,$K$3,1))+1)+11 | G9: =(DATE(Jan!$J$3,$K$3,1)-WEEKDAY(DATE(Jan!$J$3,$K$3,1))+1)+12 | H9: =(DATE(Jan!$J$3,$K$3,1)-WEEKDAY(DATE(Jan!$J$3,$K$3,1))+1)+13
B13: =(DATE(Jan!$J$3,$K$3,1)-WEEKDAY(DATE(Jan!$J$3,$K$3,1))+1)+14 | C13: =(DATE(Jan!$J$3,$K$3,1)-WEEKDAY(DATE(Jan!$J$3,$K$3,1))+1)+15 | D13: =(DATE(Jan!$J$3,$K$3,1)-WEEKDAY(DATE(Jan!$J$3,$K$3,1))+1)+16 | E13: =(DATE(Jan!$J$3,$K$3,1)-WEEKDAY(DATE(Jan!$J$3,$K$3,1))+1)+17 | F13: =(DATE(Jan!$J$3,$K$3,1)-WEEKDAY(DATE(Jan!$J$3,$K$3,1))+1)+18 | G13: =(DATE(Jan!$J$3,$K$3,1)-WEEKDAY(DATE(Jan!$J$3,$K$3,1))+1)+19 | H13: =(DATE(Jan!$J$3,$K$3,1)-WEEKDAY(DATE(Jan!$J$3,$K$3,1))+1)+20
B17: =(DATE(Jan!$J$3,$K$3,1)-WEEKDAY(DATE(Jan!$J$3,$K$3,1))+1)+21 | C17: =(DATE(Jan!$J$3,$K$3,1)-WEEKDAY(DATE(Jan!$J$3,$K$3,1))+1)+22 | D17: =(DATE(Jan!$J$3,$K$3,1)-WEEKDAY(DATE(Jan!$J$3,$K$3,1))+1)+23 | E17: =(DATE(Jan!$J$3,$K$3,1)-WEEKDAY(DATE(Jan!$J$3,$K$3,1))+1)+24 | F17: =(DATE(Jan!$J$3,$K$3,1)-WEEKDAY(DATE(Jan!$J$3,$K$3,1))+1)+25 | G17: =(DATE(Jan!$J$3,$K$3,1)-WEEKDAY(DATE(Jan!$J$3,$K$3,1))+1)+26 | H17: =(DATE(Jan!$J$3,$K$3,1)-WEEKDAY(DATE(Jan!$J$3,$K$3,1))+1)+27
B21: =(DATE(Jan!$J$3,$K$3,1)-WEEKDAY(DATE(Jan!$J$3,$K$3,1))+1)+28 | C21: =(DATE(Jan!$J$3,$K$3,1)-WEEKDAY(DATE(Jan!$J$3,$K$3,1))+1)+29 | D21: =(DATE(Jan!$J$3,$K$3,1)-WEEKDAY(DATE(Jan!$J$3,$K$3,1))+1)+30 | E21: =(DATE(Jan!$J$3,$K$3,1)-WEEKDAY(DATE(Jan!$J$3,$K$3,1))+1)+31 | F21: =(DATE(Jan!$J$3,$K$3,1)-WEEKDAY(DATE(Jan!$J$3,$K$3,1))+1)+32 | G21: =(DATE(Jan!$J$3,$K$3,1)-WEEKDAY(DATE(Jan!$J$3,$K$3,1))+1)+33 | H21: =(DATE(Jan!$J$3,$K$3,1)-WEEKDAY(DATE(Jan!$J$3,$K$3,1))+1)+34
B25: =(DATE(Jan!$J$3,$K$3,1)-WEEKDAY(DATE(Jan!$J$3,$K$3,1))+1)+35 | C25: =(DATE(Jan!$J$3,$K$3,1)-WEEKDAY(DATE(Jan!$J$3,$K$3,1))+1)+36 | D25: =(DATE(Jan!$J$3,$K$3,1)-WEEKDAY(DATE(Jan!$J$3,$K$3,1))+1)+37 | E25: =(DATE(Jan!$J$3,$K$3,1)-WEEKDAY(DATE(Jan!$J$3,$K$3,1))+1)+38 | F25: =(DATE(Jan!$J$3,$K$3,1)-WEEKDAY(DATE(Jan!$J$3,$K$3,1))+1)+39 | G25: =(DATE(Jan!$J$3,$K$3,1)-WEEKDAY(DATE(Jan!$J$3,$K$3,1))+1)+40 | H25: =(DATE(Jan!$J$3,$K$3,1)-WEEKDAY(DATE(Jan!$J$3,$K$3,1))+1)+41

Sheet Jun
B2: =UPPER(TEXT(DATE(Jan!$J$3,$K$3,1),"mmmm yyyy"))
K3: 6
B4: Sunday | C4: Monday | D4: Tuesday | E4: Wednesday | F4: Thursday | G4: Friday | H4: Saturday
B5: =(DATE(Jan!$J$3,$K$3,1)-WEEKDAY(DATE(Jan!$J$3,$K$3,1))+1)+0 | C5: =(DATE(Jan!$J$3,$K$3,1)-WEEKDAY(DATE(Jan!$J$3,$K$3,1))+1)+1 | D5: =(DATE(Jan!$J$3,$K$3,1)-WEEKDAY(DATE(Jan!$J$3,$K$3,1))+1)+2 | E5: =(DATE(Jan!$J$3,$K$3,1)-WEEKDAY(DATE(Jan!$J$3,$K$3,1))+1)+3 | F5: =(DATE(Jan!$J$3,$K$3,1)-WEEKDAY(DATE(Jan!$J$3,$K$3,1))+1)+4 | G5: =(DATE(Jan!$J$3,$K$3,1)-WEEKDAY(DATE(Jan!$J$3,$K$3,1))+1)+5 | H5: =(DATE(Jan!$J$3,$K$3,1)-WEEKDAY(DATE(Jan!$J$3,$K$3,1))+1)+6
B9: =(DATE(Jan!$J$3,$K$3,1)-WEEKDAY(DATE(Jan!$J$3,$K$3,1))+1)+7 | C9: =(DATE(Jan!$J$3,$K$3,1)-WEEKDAY(DATE(Jan!$J$3,$K$3,1))+1)+8 | D9: =(DATE(Jan!$J$3,$K$3,1)-WEEKDAY(DATE(Jan!$J$3,$K$3,1))+1)+9 | E9: =(DATE(Jan!$J$3,$K$3,1)-WEEKDAY(DATE(Jan!$J$3,$K$3,1))+1)+10 | F9: =(DATE(Jan!$J$3,$K$3,1)-WEEKDAY(DATE(Jan!$J$3,$K$3,1))+1)+11 | G9: =(DATE(Jan!$J$3,$K$3,1)-WEEKDAY(DATE(Jan!$J$3,$K$3,1))+1)+12 | H9: =(DATE(Jan!$J$3,$K$3,1)-WEEKDAY(DATE(Jan!$J$3,$K$3,1))+1)+13
B13: =(DATE(Jan!$J$3,$K$3,1)-WEEKDAY(DATE(Jan!$J$3,$K$3,1))+1)+14 | C13: =(DATE(Jan!$J$3,$K$3,1)-WEEKDAY(DATE(Jan!$J$3,$K$3,1))+1)+15 | D13: =(DATE(Jan!$J$3,$K$3,1)-WEEKDAY(DATE(Jan!$J$3,$K$3,1))+1)+16 | E13: =(DATE(Jan!$J$3,$K$3,1)-WEEKDAY(DATE(Jan!$J$3,$K$3,1))+1)+17 | F13: =(DATE(Jan!$J$3,$K$3,1)-WEEKDAY(DATE(Jan!$J$3,$K$3,1))+1)+18 | G13: =(DATE(Jan!$J$3,$K$3,1)-WEEKDAY(DATE(Jan!$J$3,$K$3,1))+1)+19 | H13: =(DATE(Jan!$J$3,$K$3,1)-WEEKDAY(DATE(Jan!$J$3,$K$3,1))+1)+20
B17: =(DATE(Jan!$J$3,$K$3,1)-WEEKDAY(DATE(Jan!$J$3,$K$3,1))+1)+21 | C17: =(DATE(Jan!$J$3,$K$3,1)-WEEKDAY(DATE(Jan!$J$3,$K$3,1))+1)+22 | D17: =(DATE(Jan!$J$3,$K$3,1)-WEEKDAY(DATE(Jan!$J$3,$K$3,1))+1)+23 | E17: =(DATE(Jan!$J$3,$K$3,1)-WEEKDAY(DATE(Jan!$J$3,$K$3,1))+1)+24 | F17: =(DATE(Jan!$J$3,$K$3,1)-WEEKDAY(DATE(Jan!$J$3,$K$3,1))+1)+25 | G17: =(DATE(Jan!$J$3,$K$3,1)-WEEKDAY(DATE(Jan!$J$3,$K$3,1))+1)+26 | H17: =(DATE(Jan!$J$3,$K$3,1)-WEEKDAY(DATE(Jan!$J$3,$K$3,1))+1)+27
B21: =(DATE(Jan!$J$3,$K$3,1)-WEEKDAY(DATE(Jan!$J$3,$K$3,1))+1)+28 | C21: =(DATE(Jan!$J$3,$K$3,1)-WEEKDAY(DATE(Jan!$J$3,$K$3,1))+1)+29 | D21: =(DATE(Jan!$J$3,$K$3,1)-WEEKDAY(DATE(Jan!$J$3,$K$3,1))+1)+30 | E21: =(DATE(Jan!$J$3,$K$3,1)-WEEKDAY(DATE(Jan!$J$3,$K$3,1))+1)+31 | F21: =(DATE(Jan!$J$3,$K$3,1)-WEEKDAY(DATE(Jan!$J$3,$K$3,1))+1)+32 | G21: =(DATE(Jan!$J$3,$K$3,1)-WEEKDAY(DATE(Jan!$J$3,$K$3,1))+1)+33 | H21: =(DATE(Jan!$J$3,$K$3,1)-WEEKDAY(DATE(Jan!$J$3,$K$3,1))+1)+34
B25: =(DATE(Jan!$J$3,$K$3,1)-WEEKDAY(DATE(Jan!$J$3,$K$3,1))+1)+35 | C25: =(DATE(Jan!$J$3,$K$3,1)-WEEKDAY(DATE(Jan!$J$3,$K$3,1))+1)+36 | D25: =(DATE(Jan!$J$3,$K$3,1)-WEEKDAY(DATE(Jan!$J$3,$K$3,1))+1)+37 | E25: =(DATE(Jan!$J$3,$K$3,1)-WEEKDAY(DATE(Jan!$J$3,$K$3,1))+1)+38 | F25: =(DATE(Jan!$J$3,$K$3,1)-WEEKDAY(DATE(Jan!$J$3,$K$3,1))+1)+39 | G25: =(DATE(Jan!$J$3,$K$3,1)-WEEKDAY(DATE(Jan!$J$3,$K$3,1))+1)+40 | H25: =(DATE(Jan!$J$3,$K$3,1)-WEEKDAY(DATE(Jan!$J$3,$K$3,1))+1)+41

Sheet Jul
B2: =UPPER(TEXT(DATE(Jan!$J$3,$K$3,1),"mmmm yyyy"))
K3: 7
B4: Sunday | C4: Monday | D4: Tuesday | E4: Wednesday | F4: Thursday | G4: Friday | H4: Saturday
B5: =(DATE(Jan!$J$3,$K$3,1)-WEEKDAY(DATE(Jan!$J$3,$K$3,1))+1)+0 | C5: =(DATE(Jan!$J$3,$K$3,1)-WEEKDAY(DATE(Jan!$J$3,$K$3,1))+1)+1 | D5: =(DATE(Jan!$J$3,$K$3,1)-WEEKDAY(DATE(Jan!$J$3,$K$3,1))+1)+2 | E5: =(DATE(Jan!$J$3,$K$3,1)-WEEKDAY(DATE(Jan!$J$3,$K$3,1))+1)+3 | F5: =(DATE(Jan!$J$3,$K$3,1)-WEEKDAY(DATE(Jan!$J$3,$K$3,1))+1)+4 | G5: =(DATE(Jan!$J$3,$K$3,1)-WEEKDAY(DATE(Jan!$J$3,$K$3,1))+1)+5 | H5: =(DATE(Jan!$J$3,$K$3,1)-WEEKDAY(DATE(Jan!$J$3,$K$3,1))+1)+6
B9: =(DATE(Jan!$J$3,$K$3,1)-WEEKDAY(DATE(Jan!$J$3,$K$3,1))+1)+7 | C9: =(DATE(Jan!$J$3,$K$3,1)-WEEKDAY(DATE(Jan!$J$3,$K$3,1))+1)+8 | D9: =(DATE(Jan!$J$3,$K$3,1)-WEEKDAY(DATE(Jan!$J$3,$K$3,1))+1)+9 | E9: =(DATE(Jan!$J$3,$K$3,1)-WEEKDAY(DATE(Jan!$J$3,$K$3,1))+1)+10 | F9: =(DATE(Jan!$J$3,$K$3,1)-WEEKDAY(DATE(Jan!$J$3,$K$3,1))+1)+11 | G9: =(DATE(Jan!$J$3,$K$3,1)-WEEKDAY(DATE(Jan!$J$3,$K$3,1))+1)+12 | H9: =(DATE(Jan!$J$3,$K$3,1)-WEEKDAY(DATE(Jan!$J$3,$K$3,1))+1)+13
B13: =(DATE(Jan!$J$3,$K$3,1)-WEEKDAY(DATE(Jan!$J$3,$K$3,1))+1)+14 | C13: =(DATE(Jan!$J$3,$K$3,1)-WEEKDAY(DATE(Jan!$J$3,$K$3,1))+1)+15 | D13: =(DATE(Jan!$J$3,$K$3,1)-WEEKDAY(DATE(Jan!$J$3,$K$3,1))+1)+16 | E13: =(DATE(Jan!$J$3,$K$3,1)-WEEKDAY(DATE(Jan!$J$3,$K$3,1))+1)+17 | F13: =(DATE(Jan!$J$3,$K$3,1)-WEEKDAY(DATE(Jan!$J$3,$K$3,1))+1)+18 | G13: =(DATE(Jan!$J$3,$K$3,1)-WEEKDAY(DATE(Jan!$J$3,$K$3,1))+1)+19 | H13: =(DATE(Jan!$J$3,$K$3,1)-WEEKDAY(DATE(Jan!$J$3,$K$3,1))+1)+20
B17: =(DATE(Jan!$J$3,$K$3,1)-WEEKDAY(DATE(Jan!$J$3,$K$3,1))+1)+21 | C17: =(DATE(Jan!$J$3,$K$3,1)-WEEKDAY(DATE(Jan!$J$3,$K$3,1))+1)+22 | D17: =(DATE(Jan!$J$3,$K$3,1)-WEEKDAY(DATE(Jan!$J$3,$K$3,1))+1)+23 | E17: =(DATE(Jan!$J$3,$K$3,1)-WEEKDAY(DATE(Jan!$J$3,$K$3,1))+1)+24 | F17: =(DATE(Jan!$J$3,$K$3,1)-WEEKDAY(DATE(Jan!$J$3,$K$3,1))+1)+25 | G17: =(DATE(Jan!$J$3,$K$3,1)-WEEKDAY(DATE(Jan!$J$3,$K$3,1))+1)+26 | H17: =(DATE(Jan!$J$3,$K$3,1)-WEEKDAY(DATE(Jan!$J$3,$K$3,1))+1)+27
B21: =(DATE(Jan!$J$3,$K$3,1)-WEEKDAY(DATE(Jan!$J$3,$K$3,1))+1)+28 | C21: =(DATE(Jan!$J$3,$K$3,1)-WEEKDAY(DATE(Jan!$J$3,$K$3,1))+1)+29 | D21: =(DATE(Jan!$J$3,$K$3,1)-WEEKDAY(DATE(Jan!$J$3,$K$3,1))+1)+30 | E21: =(DATE(Jan!$J$3,$K$3,1)-WEEKDAY(DATE(Jan!$J$3,$K$3,1))+1)+31 | F21: =(DATE(Jan!$J$3,$K$3,1)-WEEKDAY(DATE(Jan!$J$3,$K$3,1))+1)+32 | G21: =(DATE(Jan!$J$3,$K$3,1)-WEEKDAY(DATE(Jan!$J$3,$K$3,1))+1)+33 | H21: =(DATE(Jan!$J$3,$K$3,1)-WEEKDAY(DATE(Jan!$J$3,$K$3,1))+1)+34
B25: =(DATE(Jan!$J$3,$K$3,1)-WEEKDAY(DATE(Jan!$J$3,$K$3,1))+1)+35 | C25: =(DATE(Jan!$J$3,$K$3,1)-WEEKDAY(DATE(Jan!$J$3,$K$3,1))+1)+36 | D25: =(DATE(Jan!$J$3,$K$3,1)-WEEKDAY(DATE(Jan!$J$3,$K$3,1))+1)+37 | E25: =(DATE(Jan!$J$3,$K$3,1)-WEEKDAY(DATE(Jan!$J$3,$K$3,1))+1)+38 | F25: =(DATE(Jan!$J$3,$K$3,1)-WEEKDAY(DATE(Jan!$J$3,$K$3,1))+1)+39 | G25: =(DATE(Jan!$J$3,$K$3,1)-WEEKDAY(DATE(Jan!$J$3,$K$3,1))+1)+40 | H25: =(DATE(Jan!$J$3,$K$3,1)-WEEKDAY(DATE(Jan!$J$3,$K$3,1))+1)+41

Sheet Aug
B2: =UPPER(TEXT(DATE(Jan!$J$3,$K$3,1),"mmmm yyyy"))
K3: 8
B4: Sunday | C4: Monday | D4: Tuesday | E4: Wednesday | F4: Thursday | G4: Friday | H4: Saturday
B5: =(DATE(Jan!$J$3,$K$3,1)-WEEKDAY(DATE(Jan!$J$3,$K$3,1))+1)+0 | C5: =(DATE(Jan!$J$3,$K$3,1)-WEEKDAY(DATE(Jan!$J$3,$K$3,1))+1)+1 | D5: =(DATE(Jan!$J$3,$K$3,1)-WEEKDAY(DATE(Jan!$J$3,$K$3,1))+1)+2 | E5: =(DATE(Jan!$J$3,$K$3,1)-WEEKDAY(DATE(Jan!$J$3,$K$3,1))+1)+3 | F5: =(DATE(Jan!$J$3,$K$3,1)-WEEKDAY(DATE(Jan!$J$3,$K$3,1))+1)+4 | G5: =(DATE(Jan!$J$3,$K$3,1)-WEEKDAY(DATE(Jan!$J$3,$K$3,1))+1)+5 | H5: =(DATE(Jan!$J$3,$K$3,1)-WEEKDAY(DATE(Jan!$J$3,$K$3,1))+1)+6
B9: =(DATE(Jan!$J$3,$K$3,1)-WEEKDAY(DATE(Jan!$J$3,$K$3,1))+1)+7 | C9: =(DATE(Jan!$J$3,$K$3,1)-WEEKDAY(DATE(Jan!$J$3,$K$3,1))+1)+8 | D9: =(DATE(Jan!$J$3,$K$3,1)-WEEKDAY(DATE(Jan!$J$3,$K$3,1))+1)+9 | E9: =(DATE(Jan!$J$3,$K$3,1)-WEEKDAY(DATE(Jan!$J$3,$K$3,1))+1)+10 | F9: =(DATE(Jan!$J$3,$K$3,1)-WEEKDAY(DATE(Jan!$J$3,$K$3,1))+1)+11 | G9: =(DATE(Jan!$J$3,$K$3,1)-WEEKDAY(DATE(Jan!$J$3,$K$3,1))+1)+12 | H9: =(DATE(Jan!$J$3,$K$3,1)-WEEKDAY(DATE(Jan!$J$3,$K$3,1))+1)+13
B13: =(DATE(Jan!$J$3,$K$3,1)-WEEKDAY(DATE(Jan!$J$3,$K$3,1))+1)+14 | C13: =(DATE(Jan!$J$3,$K$3,1)-WEEKDAY(DATE(Jan!$J$3,$K$3,1))+1)+15 | D13: =(DATE(Jan!$J$3,$K$3,1)-WEEKDAY(DATE(Jan!$J$3,$K$3,1))+1)+16 | E13: =(DATE(Jan!$J$3,$K$3,1)-WEEKDAY(DATE(Jan!$J$3,$K$3,1))+1)+17 | F13: =(DATE(Jan!$J$3,$K$3,1)-WEEKDAY(DATE(Jan!$J$3,$K$3,1))+1)+18 | G13: =(DATE(Jan!$J$3,$K$3,1)-WEEKDAY(DATE(Jan!$J$3,$K$3,1))+1)+19 | H13: =(DATE(Jan!$J$3,$K$3,1)-WEEKDAY(DATE(Jan!$J$3,$K$3,1))+1)+20
B17: =(DATE(Jan!$J$3,$K$3,1)-WEEKDAY(DATE(Jan!$J$3,$K$3,1))+1)+21 | C17: =(DATE(Jan!$J$3,$K$3,1)-WEEKDAY(DATE(Jan!$J$3,$K$3,1))+1)+22 | D17: =(DATE(Jan!$J$3,$K$3,1)-WEEKDAY(DATE(Jan!$J$3,$K$3,1))+1)+23 | E17: =(DATE(Jan!$J$3,$K$3,1)-WEEKDAY(DATE(Jan!$J$3,$K$3,1))+1)+24 | F17: =(DATE(Jan!$J$3,$K$3,1)-WEEKDAY(DATE(Jan!$J$3,$K$3,1))+1)+25 | G17: =(DATE(Jan!$J$3,$K$3,1)-WEEKDAY(DATE(Jan!$J$3,$K$3,1))+1)+26 | H17: =(DATE(Jan!$J$3,$K$3,1)-WEEKDAY(DATE(Jan!$J$3,$K$3,1))+1)+27
B21: =(DATE(Jan!$J$3,$K$3,1)-WEEKDAY(DATE(Jan!$J$3,$K$3,1))+1)+28 | C21: =(DATE(Jan!$J$3,$K$3,1)-WEEKDAY(DATE(Jan!$J$3,$K$3,1))+1)+29 | D21: =(DATE(Jan!$J$3,$K$3,1)-WEEKDAY(DATE(Jan!$J$3,$K$3,1))+1)+30 | E21: =(DATE(Jan!$J$3,$K$3,1)-WEEKDAY(DATE(Jan!$J$3,$K$3,1))+1)+31 | F21: =(DATE(Jan!$J$3,$K$3,1)-WEEKDAY(DATE(Jan!$J$3,$K$3,1))+1)+32 | G21: =(DATE(Jan!$J$3,$K$3,1)-WEEKDAY(DATE(Jan!$J$3,$K$3,1))+1)+33 | H21: =(DATE(Jan!$J$3,$K$3,1)-WEEKDAY(DATE(Jan!$J$3,$K$3,1))+1)+34
B25: =(DATE(Jan!$J$3,$K$3,1)-WEEKDAY(DATE(Jan!$J$3,$K$3,1))+1)+35 | C25: =(DATE(Jan!$J$3,$K$3,1)-WEEKDAY(DATE(Jan!$J$3,$K$3,1))+1)+36 | D25: =(DATE(Jan!$J$3,$K$3,1)-WEEKDAY(DATE(Jan!$J$3,$K$3,1))+1)+37 | E25: =(DATE(Jan!$J$3,$K$3,1)-WEEKDAY(DATE(Jan!$J$3,$K$3,1))+1)+38 | F25: =(DATE(Jan!$J$3,$K$3,1)-WEEKDAY(DATE(Jan!$J$3,$K$3,1))+1)+39 | G25: =(DATE(Jan!$J$3,$K$3,1)-WEEKDAY(DATE(Jan!$J$3,$K$3,1))+1)+40 | H25: =(DATE(Jan!$J$3,$K$3,1)-WEEKDAY(DATE(Jan!$J$3,$K$3,1))+1)+41

Sheet Sep
B2: =UPPER(TEXT(DATE(Jan!$J$3,$K$3,1),"mmmm yyyy"))
K3: 9
B4: Sunday | C4: Monday | D4: Tuesday | E4: Wednesday | F4: Thursday | G4: Friday | H4: Saturday
B5: =(DATE(Jan!$J$3,$K$3,1)-WEEKDAY(DATE(Jan!$J$3,$K$3,1))+1)+0 | C5: =(DATE(Jan!$J$3,$K$3,1)-WEEKDAY(DATE(Jan!$J$3,$K$3,1))+1)+1 | D5: =(DATE(Jan!$J$3,$K$3,1)-WEEKDAY(DATE(Jan!$J$3,$K$3,1))+1)+2 | E5: =(DATE(Jan!$J$3,$K$3,1)-WEEKDAY(DATE(Jan!$J$3,$K$3,1))+1)+3 | F5: =(DATE(Jan!$J$3,$K$3,1)-WEEKDAY(DATE(Jan!$J$3,$K$3,1))+1)+4 | G5: =(DATE(Jan!$J$3,$K$3,1)-WEEKDAY(DATE(Jan!$J$3,$K$3,1))+1)+5 | H5: =(DATE(Jan!$J$3,$K$3,1)-WEEKDAY(DATE(Jan!$J$3,$K$3,1))+1)+6
B9: =(DATE(Jan!$J$3,$K$3,1)-WEEKDAY(DATE(Jan!$J$3,$K$3,1))+1)+7 | C9: =(DATE(Jan!$J$3,$K$3,1)-WEEKDAY(DATE(Jan!$J$3,$K$3,1))+1)+8 | D9: =(DATE(Jan!$J$3,$K$3,1)-WEEKDAY(DATE(Jan!$J$3,$K$3,1))+1)+9 | E9: =(DATE(Jan!$J$3,$K$3,1)-WEEKDAY(DATE(Jan!$J$3,$K$3,1))+1)+10 | F9: =(DATE(Jan!$J$3,$K$3,1)-WEEKDAY(DATE(Jan!$J$3,$K$3,1))+1)+11 | G9: =(DATE(Jan!$J$3,$K$3,1)-WEEKDAY(DATE(Jan!$J$3,$K$3,1))+1)+12 | H9: =(DATE(Jan!$J$3,$K$3,1)-WEEKDAY(DATE(Jan!$J$3,$K$3,1))+1)+13
B13: =(DATE(Jan!$J$3,$K$3,1)-WEEKDAY(DATE(Jan!$J$3,$K$3,1))+1)+14 | C13: =(DATE(Jan!$J$3,$K$3,1)-WEEKDAY(DATE(Jan!$J$3,$K$3,1))+1)+15 | D13: =(DATE(Jan!$J$3,$K$3,1)-WEEKDAY(DATE(Jan!$J$3,$K$3,1))+1)+16 | E13: =(DATE(Jan!$J$3,$K$3,1)-WEEKDAY(DATE(Jan!$J$3,$K$3,1))+1)+17 | F13: =(DATE(Jan!$J$3,$K$3,1)-WEEKDAY(DATE(Jan!$J$3,$K$3,1))+1)+18 | G13: =(DATE(Jan!$J$3,$K$3,1)-WEEKDAY(DATE(Jan!$J$3,$K$3,1))+1)+19 | H13: =(DATE(Jan!$J$3,$K$3,1)-WEEKDAY(DATE(Jan!$J$3,$K$3,1))+1)+20
B17: =(DATE(Jan!$J$3,$K$3,1)-WEEKDAY(DATE(Jan!$J$3,$K$3,1))+1)+21 | C17: =(DATE(Jan!$J$3,$K$3,1)-WEEKDAY(DATE(Jan!$J$3,$K$3,1))+1)+22 | D17: =(DATE(Jan!$J$3,$K$3,1)-WEEKDAY(DATE(Jan!$J$3,$K$3,1))+1)+23 | E17: =(DATE(Jan!$J$3,$K$3,1)-WEEKDAY(DATE(Jan!$J$3,$K$3,1))+1)+24 | F17: =(DATE(Jan!$J$3,$K$3,1)-WEEKDAY(DATE(Jan!$J$3,$K$3,1))+1)+25 | G17: =(DATE(Jan!$J$3,$K$3,1)-WEEKDAY(DATE(Jan!$J$3,$K$3,1))+1)+26 | H17: =(DATE(Jan!$J$3,$K$3,1)-WEEKDAY(DATE(Jan!$J$3,$K$3,1))+1)+27
B21: =(DATE(Jan!$J$3,$K$3,1)-WEEKDAY(DATE(Jan!$J$3,$K$3,1))+1)+28 | C21: =(DATE(Jan!$J$3,$K$3,1)-WEEKDAY(DATE(Jan!$J$3,$K$3,1))+1)+29 | D21: =(DATE(Jan!$J$3,$K$3,1)-WEEKDAY(DATE(Jan!$J$3,$K$3,1))+1)+30 | E21: =(DATE(Jan!$J$3,$K$3,1)-WEEKDAY(DATE(Jan!$J$3,$K$3,1))+1)+31 | F21: =(DATE(Jan!$J$3,$K$3,1)-WEEKDAY(DATE(Jan!$J$3,$K$3,1))+1)+32 | G21: =(DATE(Jan!$J$3,$K$3,1)-WEEKDAY(DATE(Jan!$J$3,$K$3,1))+1)+33 | H21: =(DATE(Jan!$J$3,$K$3,1)-WEEKDAY(DATE(Jan!$J$3,$K$3,1))+1)+34
B25: =(DATE(Jan!$J$3,$K$3,1)-WEEKDAY(DATE(Jan!$J$3,$K$3,1))+1)+35 | C25: =(DATE(Jan!$J$3,$K$3,1)-WEEKDAY(DATE(Jan!$J$3,$K$3,1))+1)+36 | D25: =(DATE(Jan!$J$3,$K$3,1)-WEEKDAY(DATE(Jan!$J$3,$K$3,1))+1)+37 | E25: =(DATE(Jan!$J$3,$K$3,1)-WEEKDAY(DATE(Jan!$J$3,$K$3,1))+1)+38 | F25: =(DATE(Jan!$J$3,$K$3,1)-WEEKDAY(DATE(Jan!$J$3,$K$3,1))+1)+39 | G25: =(DATE(Jan!$J$3,$K$3,1)-WEEKDAY(DATE(Jan!$J$3,$K$3,1))+1)+40 | H25: =(DATE(Jan!$J$3,$K$3,1)-WEEKDAY(DATE(Jan!$J$3,$K$3,1))+1)+41

Sheet Oct
B2: =UPPER(TEXT(DATE(Jan!$J$3,$K$3,1),"mmmm yyyy"))
K3: 10
B4: Sunday | C4: Monday | D4: Tuesday | E4: Wednesday | F4: Thursday | G4: Friday | H4: Saturday
B5: =(DATE(Jan!$J$3,$K$3,1)-WEEKDAY(DATE(Jan!$J$3,$K$3,1))+1)+0 | C5: =(DATE(Jan!$J$3,$K$3,1)-WEEKDAY(DATE(Jan!$J$3,$K$3,1))+1)+1 | D5: =(DATE(Jan!$J$3,$K$3,1)-WEEKDAY(DATE(Jan!$J$3,$K$3,1))+1)+2 | E5: =(DATE(Jan!$J$3,$K$3,1)-WEEKDAY(DATE(Jan!$J$3,$K$3,1))+1)+3 | F5: =(DATE(Jan!$J$3,$K$3,1)-WEEKDAY(DATE(Jan!$J$3,$K$3,1))+1)+4 | G5: =(DATE(Jan!$J$3,$K$3,1)-WEEKDAY(DATE(Jan!$J$3,$K$3,1))+1)+5 | H5: =(DATE(Jan!$J$3,$K$3,1)-WEEKDAY(DATE(Jan!$J$3,$K$3,1))+1)+6
B9: =(DATE(Jan!$J$3,$K$3,1)-WEEKDAY(DATE(Jan!$J$3,$K$3,1))+1)+7 | C9: =(DATE(Jan!$J$3,$K$3,1)-WEEKDAY(DATE(Jan!$J$3,$K$3,1))+1)+8 | D9: =(DATE(Jan!$J$3,$K$3,1)-WEEKDAY(DATE(Jan!$J$3,$K$3,1))+1)+9 | E9: =(DATE(Jan!$J$3,$K$3,1)-WEEKDAY(DATE(Jan!$J$3,$K$3,1))+1)+10 | F9: =(DATE(Jan!$J$3,$K$3,1)-WEEKDAY(DATE(Jan!$J$3,$K$3,1))+1)+11 | G9: =(DATE(Jan!$J$3,$K$3,1)-WEEKDAY(DATE(Jan!$J$3,$K$3,1))+1)+12 | H9: =(DATE(Jan!$J$3,$K$3,1)-WEEKDAY(DATE(Jan!$J$3,$K$3,1))+1)+13
B13: =(DATE(Jan!$J$3,$K$3,1)-WEEKDAY(DATE(Jan!$J$3,$K$3,1))+1)+14 | C13: =(DATE(Jan!$J$3,$K$3,1)-WEEKDAY(DATE(Jan!$J$3,$K$3,1))+1)+15 | D13: =(DATE(Jan!$J$3,$K$3,1)-WEEKDAY(DATE(Jan!$J$3,$K$3,1))+1)+16 | E13: =(DATE(Jan!$J$3,$K$3,1)-WEEKDAY(DATE(Jan!$J$3,$K$3,1))+1)+17 | F13: =(DATE(Jan!$J$3,$K$3,1)-WEEKDAY(DATE(Jan!$J$3,$K$3,1))+1)+18 | G13: =(DATE(Jan!$J$3,$K$3,1)-WEEKDAY(DATE(Jan!$J$3,$K$3,1))+1)+19 | H13: =(DATE(Jan!$J$3,$K$3,1)-WEEKDAY(DATE(Jan!$J$3,$K$3,1))+1)+20
B17: =(DATE(Jan!$J$3,$K$3,1)-WEEKDAY(DATE(Jan!$J$3,$K$3,1))+1)+21 | C17: =(DATE(Jan!$J$3,$K$3,1)-WEEKDAY(DATE(Jan!$J$3,$K$3,1))+1)+22 | D17: =(DATE(Jan!$J$3,$K$3,1)-WEEKDAY(DATE(Jan!$J$3,$K$3,1))+1)+23 | E17: =(DATE(Jan!$J$3,$K$3,1)-WEEKDAY(DATE(Jan!$J$3,$K$3,1))+1)+24 | F17: =(DATE(Jan!$J$3,$K$3,1)-WEEKDAY(DATE(Jan!$J$3,$K$3,1))+1)+25 | G17: =(DATE(Jan!$J$3,$K$3,1)-WEEKDAY(DATE(Jan!$J$3,$K$3,1))+1)+26 | H17: =(DATE(Jan!$J$3,$K$3,1)-WEEKDAY(DATE(Jan!$J$3,$K$3,1))+1)+27
B21: =(DATE(Jan!$J$3,$K$3,1)-WEEKDAY(DATE(Jan!$J$3,$K$3,1))+1)+28 | C21: =(DATE(Jan!$J$3,$K$3,1)-WEEKDAY(DATE(Jan!$J$3,$K$3,1))+1)+29 | D21: =(DATE(Jan!$J$3,$K$3,1)-WEEKDAY(DATE(Jan!$J$3,$K$3,1))+1)+30 | E21: =(DATE(Jan!$J$3,$K$3,1)-WEEKDAY(DATE(Jan!$J$3,$K$3,1))+1)+31 | F21: =(DATE(Jan!$J$3,$K$3,1)-WEEKDAY(DATE(Jan!$J$3,$K$3,1))+1)+32 | G21: =(DATE(Jan!$J$3,$K$3,1)-WEEKDAY(DATE(Jan!$J$3,$K$3,1))+1)+33 | H21: =(DATE(Jan!$J$3,$K$3,1)-WEEKDAY(DATE(Jan!$J$3,$K$3,1))+1)+34
B25: =(DATE(Jan!$J$3,$K$3,1)-WEEKDAY(DATE(Jan!$J$3,$K$3,1))+1)+35 | C25: =(DATE(Jan!$J$3,$K$3,1)-WEEKDAY(DATE(Jan!$J$3,$K$3,1))+1)+36 | D25: =(DATE(Jan!$J$3,$K$3,1)-WEEKDAY(DATE(Jan!$J$3,$K$3,1))+1)+37 | E25: =(DATE(Jan!$J$3,$K$3,1)-WEEKDAY(DATE(Jan!$J$3,$K$3,1))+1)+38 | F25: =(DATE(Jan!$J$3,$K$3,1)-WEEKDAY(DATE(Jan!$J$3,$K$3,1))+1)+39 | G25: =(DATE(Jan!$J$3,$K$3,1)-WEEKDAY(DATE(Jan!$J$3,$K$3,1))+1)+40 | H25: =(DATE(Jan!$J$3,$K$3,1)-WEEKDAY(DATE(Jan!$J$3,$K$3,1))+1)+41

Sheet Nov
B2: =UPPER(TEXT(DATE(Jan!$J$3,$K$3,1),"mmmm yyyy"))
K3: 11
B4: Sunday | C4: Monday | D4: Tuesday | E4: Wednesday | F4: Thursday | G4: Friday | H4: Saturday
B5: =(DATE(Jan!$J$3,$K$3,1)-WEEKDAY(DATE(Jan!$J$3,$K$3,1))+1)+0 | C5: =(DATE(Jan!$J$3,$K$3,1)-WEEKDAY(DATE(Jan!$J$3,$K$3,1))+1)+1 | D5: =(DATE(Jan!$J$3,$K$3,1)-WEEKDAY(DATE(Jan!$J$3,$K$3,1))+1)+2 | E5: =(DATE(Jan!$J$3,$K$3,1)-WEEKDAY(DATE(Jan!$J$3,$K$3,1))+1)+3 | F5: =(DATE(Jan!$J$3,$K$3,1)-WEEKDAY(DATE(Jan!$J$3,$K$3,1))+1)+4 | G5: =(DATE(Jan!$J$3,$K$3,1)-WEEKDAY(DATE(Jan!$J$3,$K$3,1))+1)+5 | H5: =(DATE(Jan!$J$3,$K$3,1)-WEEKDAY(DATE(Jan!$J$3,$K$3,1))+1)+6
B9: =(DATE(Jan!$J$3,$K$3,1)-WEEKDAY(DATE(Jan!$J$3,$K$3,1))+1)+7 | C9: =(DATE(Jan!$J$3,$K$3,1)-WEEKDAY(DATE(Jan!$J$3,$K$3,1))+1)+8 | D9: =(DATE(Jan!$J$3,$K$3,1)-WEEKDAY(DATE(Jan!$J$3,$K$3,1))+1)+9 | E9: =(DATE(Jan!$J$3,$K$3,1)-WEEKDAY(DATE(Jan!$J$3,$K$3,1))+1)+10 | F9: =(DATE(Jan!$J$3,$K$3,1)-WEEKDAY(DATE(Jan!$J$3,$K$3,1))+1)+11 | G9: =(DATE(Jan!$J$3,$K$3,1)-WEEKDAY(DATE(Jan!$J$3,$K$3,1))+1)+12 | H9: =(DATE(Jan!$J$3,$K$3,1)-WEEKDAY(DATE(Jan!$J$3,$K$3,1))+1)+13
B13: =(DATE(Jan!$J$3,$K$3,1)-WEEKDAY(DATE(Jan!$J$3,$K$3,1))+1)+14 | C13: =(DATE(Jan!$J$3,$K$3,1)-WEEKDAY(DATE(Jan!$J$3,$K$3,1))+1)+15 | D13: =(DATE(Jan!$J$3,$K$3,1)-WEEKDAY(DATE(Jan!$J$3,$K$3,1))+1)+16 | E13: =(DATE(Jan!$J$3,$K$3,1)-WEEKDAY(DATE(Jan!$J$3,$K$3,1))+1)+17 | F13: =(DATE(Jan!$J$3,$K$3,1)-WEEKDAY(DATE(Jan!$J$3,$K$3,1))+1)+18 | G13: =(DATE(Jan!$J$3,$K$3,1)-WEEKDAY(DATE(Jan!$J$3,$K$3,1))+1)+19 | H13: =(DATE(Jan!$J$3,$K$3,1)-WEEKDAY(DATE(Jan!$J$3,$K$3,1))+1)+20
B17: =(DATE(Jan!$J$3,$K$3,1)-WEEKDAY(DATE(Jan!$J$3,$K$3,1))+1)+21 | C17: =(DATE(Jan!$J$3,$K$3,1)-WEEKDAY(DATE(Jan!$J$3,$K$3,1))+1)+22 | D17: =(DATE(Jan!$J$3,$K$3,1)-WEEKDAY(DATE(Jan!$J$3,$K$3,1))+1)+23 | E17: =(DATE(Jan!$J$3,$K$3,1)-WEEKDAY(DATE(Jan!$J$3,$K$3,1))+1)+24 | F17: =(DATE(Jan!$J$3,$K$3,1)-WEEKDAY(DATE(Jan!$J$3,$K$3,1))+1)+25 | G17: =(DATE(Jan!$J$3,$K$3,1)-WEEKDAY(DATE(Jan!$J$3,$K$3,1))+1)+26 | H17: =(DATE(Jan!$J$3,$K$3,1)-WEEKDAY(DATE(Jan!$J$3,$K$3,1))+1)+27
B21: =(DATE(Jan!$J$3,$K$3,1)-WEEKDAY(DATE(Jan!$J$3,$K$3,1))+1)+28 | C21: =(DATE(Jan!$J$3,$K$3,1)-WEEKDAY(DATE(Jan!$J$3,$K$3,1))+1)+29 | D21: =(DATE(Jan!$J$3,$K$3,1)-WEEKDAY(DATE(Jan!$J$3,$K$3,1))+1)+30 | E21: =(DATE(Jan!$J$3,$K$3,1)-WEEKDAY(DATE(Jan!$J$3,$K$3,1))+1)+31 | F21: =(DATE(Jan!$J$3,$K$3,1)-WEEKDAY(DATE(Jan!$J$3,$K$3,1))+1)+32 | G21: =(DATE(Jan!$J$3,$K$3,1)-WEEKDAY(DATE(Jan!$J$3,$K$3,1))+1)+33 | H21: =(DATE(Jan!$J$3,$K$3,1)-WEEKDAY(DATE(Jan!$J$3,$K$3,1))+1)+34
B25: =(DATE(Jan!$J$3,$K$3,1)-WEEKDAY(DATE(Jan!$J$3,$K$3,1))+1)+35 | C25: =(DATE(Jan!$J$3,$K$3,1)-WEEKDAY(DATE(Jan!$J$3,$K$3,1))+1)+36 | D25: =(DATE(Jan!$J$3,$K$3,1)-WEEKDAY(DATE(Jan!$J$3,$K$3,1))+1)+37 | E25: =(DATE(Jan!$J$3,$K$3,1)-WEEKDAY(DATE(Jan!$J$3,$K$3,1))+1)+38 | F25: =(DATE(Jan!$J$3,$K$3,1)-WEEKDAY(DATE(Jan!$J$3,$K$3,1))+1)+39 | G25: =(DATE(Jan!$J$3,$K$3,1)-WEEKDAY(DATE(Jan!$J$3,$K$3,1))+1)+40 | H25: =(DATE(Jan!$J$3,$K$3,1)-WEEKDAY(DATE(Jan!$J$3,$K$3,1))+1)+41

Sheet Dec
B2: =UPPER(TEXT(DATE(Jan!$J$3,$K$3,1),"mmmm yyyy"))
K3: 12
B4: Sunday | C4: Monday | D4: Tuesday | E4: Wednesday | F4: Thursday | G4: Friday | H4: Saturday
B5: =(DATE(Jan!$J$3,$K$3,1)-WEEKDAY(DATE(Jan!$J$3,$K$3,1))+1)+0 | C5: =(DATE(Jan!$J$3,$K$3,1)-WEEKDAY(DATE(Jan!$J$3,$K$3,1))+1)+1 | D5: =(DATE(Jan!$J$3,$K$3,1)-WEEKDAY(DATE(Jan!$J$3,$K$3,1))+1)+2 | E5: =(DATE(Jan!$J$3,$K$3,1)-WEEKDAY(DATE(Jan!$J$3,$K$3,1))+1)+3 | F5: =(DATE(Jan!$J$3,$K$3,1)-WEEKDAY(DATE(Jan!$J$3,$K$3,1))+1)+4 | G5: =(DATE(Jan!$J$3,$K$3,1)-WEEKDAY(DATE(Jan!$J$3,$K$3,1))+1)+5 | H5: =(DATE(Jan!$J$3,$K$3,1)-WEEKDAY(DATE(Jan!$J$3,$K$3,1))+1)+6
B9: =(DATE(Jan!$J$3,$K$3,1)-WEEKDAY(DATE(Jan!$J$3,$K$3,1))+1)+7 | C9: =(DATE(Jan!$J$3,$K$3,1)-WEEKDAY(DATE(Jan!$J$3,$K$3,1))+1)+8 | D9: =(DATE(Jan!$J$3,$K$3,1)-WEEKDAY(DATE(Jan!$J$3,$K$3,1))+1)+9 | E9: =(DATE(Jan!$J$3,$K$3,1)-WEEKDAY(DATE(Jan!$J$3,$K$3,1))+1)+10 | F9: =(DATE(Jan!$J$3,$K$3,1)-WEEKDAY(DATE(Jan!$J$3,$K$3,1))+1)+11 | G9: =(DATE(Jan!$J$3,$K$3,1)-WEEKDAY(DATE(Jan!$J$3,$K$3,1))+1)+12 | H9: =(DATE(Jan!$J$3,$K$3,1)-WEEKDAY(DATE(Jan!$J$3,$K$3,1))+1)+13
B13: =(DATE(Jan!$J$3,$K$3,1)-WEEKDAY(DATE(Jan!$J$3,$K$3,1))+1)+14 | C13: =(DATE(Jan!$J$3,$K$3,1)-WEEKDAY(DATE(Jan!$J$3,$K$3,1))+1)+15 | D13: =(DATE(Jan!$J$3,$K$3,1)-WEEKDAY(DATE(Jan!$J$3,$K$3,1))+1)+16 | E13: =(DATE(Jan!$J$3,$K$3,1)-WEEKDAY(DATE(Jan!$J$3,$K$3,1))+1)+17 | F13: =(DATE(Jan!$J$3,$K$3,1)-WEEKDAY(DATE(Jan!$J$3,$K$3,1))+1)+18 | G13: =(DATE(Jan!$J$3,$K$3,1)-WEEKDAY(DATE(Jan!$J$3,$K$3,1))+1)+19 | H13: =(DATE(Jan!$J$3,$K$3,1)-WEEKDAY(DATE(Jan!$J$3,$K$3,1))+1)+20
B17: =(DATE(Jan!$J$3,$K$3,1)-WEEKDAY(DATE(Jan!$J$3,$K$3,1))+1)+21 | C17: =(DATE(Jan!$J$3,$K$3,1)-WEEKDAY(DATE(Jan!$J$3,$K$3,1))+1)+22 | D17: =(DATE(Jan!$J$3,$K$3,1)-WEEKDAY(DATE(Jan!$J$3,$K$3,1))+1)+23 | E17: =(DATE(Jan!$J$3,$K$3,1)-WEEKDAY(DATE(Jan!$J$3,$K$3,1))+1)+24 | F17: =(DATE(Jan!$J$3,$K$3,1)-WEEKDAY(DATE(Jan!$J$3,$K$3,1))+1)+25 | G17: =(DATE(Jan!$J$3,$K$3,1)-WEEKDAY(DATE(Jan!$J$3,$K$3,1))+1)+26 | H17: =(DATE(Jan!$J$3,$K$3,1)-WEEKDAY(DATE(Jan!$J$3,$K$3,1))+1)+27
B21: =(DATE(Jan!$J$3,$K$3,1)-WEEKDAY(DATE(Jan!$J$3,$K$3,1))+1)+28 | C21: =(DATE(Jan!$J$3,$K$3,1)-WEEKDAY(DATE(Jan!$J$3,$K$3,1))+1)+29 | D21: =(DATE(Jan!$J$3,$K$3,1)-WEEKDAY(DATE(Jan!$J$3,$K$3,1))+1)+30 | E21: =(DATE(Jan!$J$3,$K$3,1)-WEEKDAY(DATE(Jan!$J$3,$K$3,1))+1)+31 | F21: =(DATE(Jan!$J$3,$K$3,1)-WEEKDAY(DATE(Jan!$J$3,$K$3,1))+1)+32 | G21: =(DATE(Jan!$J$3,$K$3,1)-WEEKDAY(DATE(Jan!$J$3,$K$3,1))+1)+33 | H21: =(DATE(Jan!$J$3,$K$3,1)-WEEKDAY(DATE(Jan!$J$3,$K$3,1))+1)+34
B25: =(DATE(Jan!$J$3,$K$3,1)-WEEKDAY(DATE(Jan!$J$3,$K$3,1))+1)+35 | C25: =(DATE(Jan!$J$3,$K$3,1)-WEEKDAY(DATE(Jan!$J$3,$K$3,1))+1)+36 | D25: =(DATE(Jan!$J$3,$K$3,1)-WEEKDAY(DATE(Jan!$J$3,$K$3,1))+1)+37 | E25: =(DATE(Jan!$J$3,$K$3,1)-WEEKDAY(DATE(Jan!$J$3,$K$3,1))+1)+38 | F25: =(DATE(Jan!$J$3,$K$3,1)-WEEKDAY(DATE(Jan!$J$3,$K$3,1))+1)+39 | G25: =(DATE(Jan!$J$3,$K$3,1)-WEEKDAY(DATE(Jan!$J$3,$K$3,1))+1)+40 | H25: =(DATE(Jan!$J$3,$K$3,1)-WEEKDAY(DATE(Jan!$J$3,$K$3,1))+1)+41
