Workbook

Sheet Weekly Payroll
B2: Weekly Payroll Calculator
B3: Your Company Name
B5: Week starting | C5: 46328 | J5: Regular hours limit | M5: 40 | N5: Enter daily hours, the hourly rate and the income tax withholding % for each employee. Hours above the weekly limit are paid at the overtime rate.
B6: Week ending | C6: =C5+6 | J6: Overtime rate | M6: 1.5
J7: Payroll tax rate | M7: 0.0765
B9: Employee | C9: Mon | D9: Tue | E9: Wed | F9: Thu | G9: Fri | H9: Sat | I9: Sun | J9: Total Hrs | K9: Regular | L9: Overtime | M9: Hourly Rate | N9: Regular Pay | O9: OT Pay | P9: Gross Pay | Q9: Income Tax % | R9: Taxes | S9: Net Pay
B10: Ava Johnson | C10: 8 | D10: 8 | E10: 8 | F10: 8 | G10: 8 | H10: 4 | I10: 0 | J10: =SUM(C10:I10) | K10: =MIN(J10,$M$5) | L10: =MAX(0,J10-$M$5) | M10: 21 | N10: =ROUND(K10*M10,2) | O10: =ROUND(L10*M10*$M$6,2) | P10: =N10+O10 | Q10: 0.1 | R10: =ROUND(P10*(Q10+$M$7),2) | S10: =P10-R10
B11: Liam Smith | C11: 9 | D11: 9 | E11: 9 | F11: 9 | G11: 8 | H11: 0 | I11: 0 | J11: =SUM(C11:I11) | K11: =MIN(J11,$M$5) | L11: =MAX(0,J11-$M$5) | M11: 19.5 | N11: =ROUND(K11*M11,2) | O11: =ROUND(L11*M11*$M$6,2) | P11: =N11+O11 | Q11: 0.09 | R11: =ROUND(P11*(Q11+$M$7),2) | S11: =P11-R11
B12: Sophia Martinez | C12: 8 | D12: 8 | E12: 8 | F12: 8 | G12: 8 | H12: 0 | I12: 0 | J12: =SUM(C12:I12) | K12: =MIN(J12,$M$5) | L12: =MAX(0,J12-$M$5) | M12: 24 | N12: =ROUND(K12*M12,2) | O12: =ROUND(L12*M12*$M$6,2) | P12: =N12+O12 | Q12: 0.11 | R12: =ROUND(P12*(Q12+$M$7),2) | S12: =P12-R12
B13: Noah Williams | C13: 6 | D13: 6 | E13: 0 | F13: 6 | G13: 6 | H13: 8 | I13: 0 | J13: =SUM(C13:I13) | K13: =MIN(J13,$M$5) | L13: =MAX(0,J13-$M$5) | M13: 17.25 | N13: =ROUND(K13*M13,2) | O13: =ROUND(L13*M13*$M$6,2) | P13: =N13+O13 | Q13: 0.08 | R13: =ROUND(P13*(Q13+$M$7),2) | S13: =P13-R13
B14: Olivia Brown | C14: 10 | D14: 10 | E14: 10 | F14: 10 | G14: 8 | H14: 6 | I14: 0 | J14: =SUM(C14:I14) | K14: =MIN(J14,$M$5) | L14: =MAX(0,J14-$M$5) | M14: 26 | N14: =ROUND(K14*M14,2) | O14: =ROUND(L14*M14*$M$6,2) | P14: =N14+O14 | Q14: 0.12 | R14: =ROUND(P14*(Q14+$M$7),2) | S14: =P14-R14
B15: Ethan Davis | C15: 8 | D15: 8 | E15: 8 | F15: 0 | G15: 8 | H15: 0 | I15: 0 | J15: =SUM(C15:I15) | K15: =MIN(J15,$M$5) | L15: =MAX(0,J15-$M$5) | M15: 18.75 | N15: =ROUND(K15*M15,2) | O15: =ROUND(L15*M15*$M$6,2) | P15: =N15+O15 | Q15: 0.08 | R15: =ROUND(P15*(Q15+$M$7),2) | S15: =P15-R15
J16: =SUM(C16:I16) | K16: =MIN(J16,$M$5) | L16: =MAX(0,J16-$M$5) | N16: =ROUND(K16*M16,2) | O16: =ROUND(L16*M16*$M$6,2) | P16: =N16+O16 | R16: =ROUND(P16*(Q16+$M$7),2) | S16: =P16-R16
J17: =SUM(C17:I17) | K17: =MIN(J17,$M$5) | L17: =MAX(0,J17-$M$5) | N17: =ROUND(K17*M17,2) | O17: =ROUND(L17*M17*$M$6,2) | P17: =N17+O17 | R17: =ROUND(P17*(Q17+$M$7),2) | S17: =P17-R17
J18: =SUM(C18:I18) | K18: =MIN(J18,$M$5) | L18: =MAX(0,J18-$M$5) | N18: =ROUND(K18*M18,2) | O18: =ROUND(L18*M18*$M$6,2) | P18: =N18+O18 | R18: =ROUND(P18*(Q18+$M$7),2) | S18: =P18-R18
J19: =SUM(C19:I19) | K19: =MIN(J19,$M$5) | L19: =MAX(0,J19-$M$5) | N19: =ROUND(K19*M19,2) | O19: =ROUND(L19*M19*$M$6,2) | P19: =N19+O19 | R19: =ROUND(P19*(Q19+$M$7),2) | S19: =P19-R19
J20: =SUM(C20:I20) | K20: =MIN(J20,$M$5) | L20: =MAX(0,J20-$M$5) | N20: =ROUND(K20*M20,2) | O20: =ROUND(L20*M20*$M$6,2) | P20: =N20+O20 | R20: =ROUND(P20*(Q20+$M$7),2) | S20: =P20-R20
J21: =SUM(C21:I21) | K21: =MIN(J21,$M$5) | L21: =MAX(0,J21-$M$5) | N21: =ROUND(K21*M21,2) | O21: =ROUND(L21*M21*$M$6,2) | P21: =N21+O21 | R21: =ROUND(P21*(Q21+$M$7),2) | S21: =P21-R21
B22: TOTALS | C22: =SUM(C10:C21) | D22: =SUM(D10:D21) | E22: =SUM(E10:E21) | F22: =SUM(F10:F21) | G22: =SUM(G10:G21) | H22: =SUM(H10:H21) | I22: =SUM(I10:I21) | J22: =SUM(J10:J21) | ... L22: =SUM(L10:L21) | N22: =SUM(N10:N21) | O22: =SUM(O10:O21) | P22: =SUM(P10:P21) | R22: =SUM(R10:R21) | S22: =SUM(S10:S21)

Sheet Pay Stub
B2: Your Company Name | E2: EARNINGS STATEMENT
B3: 123 Business Street, City, State 00000
B5: Select employee | C5: Ava Johnson | E5: Pay period | F5: =TEXT('Weekly Payroll'!C5,"mmm d")&" - "&TEXT('Weekly Payroll'!C6,"mmm d, yyyy")
B7: EARNINGS | E7: DEDUCTIONS
B8: Regular hours | C8: =INDEX('Weekly Payroll'!$K$10:$K$21,MATCH($C$5,'Weekly Payroll'!$B$10:$B$21,0)) | E8: Income tax | F8: =ROUND(INDEX('Weekly Payroll'!$P$10:$P$21,MATCH($C$5,'Weekly Payroll'!$B$10:$B$21,0))*INDEX('Weekly Payroll'!$Q$10:$Q$21,MATCH($C$5,'Weekly Payroll'!$B$10:$B$21,0)),2)
B9: Overtime hours | C9: =INDEX('Weekly Payroll'!$L$10:$L$21,MATCH($C$5,'Weekly Payroll'!$B$10:$B$21,0)) | E9: Payroll taxes (SS & Medicare) | F9: =ROUND(INDEX('Weekly Payroll'!$P$10:$P$21,MATCH($C$5,'Weekly Payroll'!$B$10:$B$21,0))*'Weekly Payroll'!$M$7,2)
B10: Hourly rate | C10: =INDEX('Weekly Payroll'!$M$10:$M$21,MATCH($C$5,'Weekly Payroll'!$B$10:$B$21,0))
B11: Regular pay | C11: =INDEX('Weekly Payroll'!$N$10:$N$21,MATCH($C$5,'Weekly Payroll'!$B$10:$B$21,0))
B12: Overtime pay | C12: =INDEX('Weekly Payroll'!$O$10:$O$21,MATCH($C$5,'Weekly Payroll'!$B$10:$B$21,0))
B14: GROSS PAY | C14: =C11+C12 | E14: TOTAL DEDUCTIONS | F14: =F8+F9
B16: NET PAY | F16: =C14-F14
B18: Choose an employee from the drop-down in C5 to print their pay stub. Figures come from the Weekly Payroll sheet.
